BEGIN:VCALENDAR
VERSION:2.0
PRODID:SchoolNow
CALSCALE:GREGORIAN
BEGIN:VEVENT
UID:0a131b52-315f-11ed-ac52-02c0d22b8e6d
DTSTAMP:20220910T231937Z
SUMMARY:Water Aerobics - Oct. 19th
URL;VALUE=URI:https://www.wildernesslakecdd.org/calendar/3373422/water-aero
 bics-oct-19th
DTSTART:20221019T130000Z
DTEND:20221019T140000Z
END:VEVENT
END:VCALENDAR
