BEGIN:VCALENDAR
VERSION:2.0
PRODID:SchoolNow
CALSCALE:GREGORIAN
BEGIN:VEVENT
UID:f89c6a9a-315e-11ed-8e1f-02c0d22b8e6d
DTSTAMP:20220910T231908Z
SUMMARY:Water Aerobics - Oct. 18th
URL;VALUE=URI:https://www.wildernesslakecdd.org/calendar/3373421/water-aero
 bics-oct-18th
DTSTART:20221018T130000Z
DTEND:20221018T140000Z
END:VEVENT
END:VCALENDAR
