BEGIN:VCALENDAR
VERSION:2.0
PRODID:SchoolNow
CALSCALE:GREGORIAN
BEGIN:VEVENT
UID:ea61a580-315e-11ed-baeb-02c0d22b8e6d
DTSTAMP:20220910T231844Z
SUMMARY:Water Aerobics - Oct. 17th
URL;VALUE=URI:https://www.wildernesslakecdd.org/calendar/3373420/water-aero
 bics-oct-17th
DTSTART:20221017T130000Z
DTEND:20221017T140000Z
END:VEVENT
END:VCALENDAR
