BEGIN:VCALENDAR
VERSION:2.0
PRODID:SchoolNow
CALSCALE:GREGORIAN
BEGIN:VEVENT
UID:d8bf717c-315e-11ed-b230-02c0d22b8e6d
DTSTAMP:20220910T231815Z
SUMMARY:Water Aerobics - Oct. 14th
URL;VALUE=URI:https://www.wildernesslakecdd.org/calendar/3373419/water-aero
 bics-oct-14th
DTSTART:20221014T130000Z
DTEND:20221014T140000Z
END:VEVENT
END:VCALENDAR
