BEGIN:VCALENDAR
VERSION:2.0
PRODID:SchoolNow
CALSCALE:GREGORIAN
BEGIN:VEVENT
UID:c42d506c-315e-11ed-917f-02c0d22b8e6d
DTSTAMP:20220910T231740Z
SUMMARY:Water Aerobics - Oct. 12th
URL;VALUE=URI:https://www.wildernesslakecdd.org/calendar/3373418/water-aero
 bics-oct-12th
DTSTART:20221012T130000Z
DTEND:20221012T140000Z
END:VEVENT
END:VCALENDAR
