BEGIN:VCALENDAR
VERSION:2.0
PRODID:SchoolNow
CALSCALE:GREGORIAN
BEGIN:VEVENT
UID:b6c5e844-315e-11ed-9d0d-02c0d22b8e6d
DTSTAMP:20220910T231718Z
SUMMARY:Water Aerobics - Oct. 11th
URL;VALUE=URI:https://www.wildernesslakecdd.org/calendar/3373417/water-aero
 bics-oct-11th
DTSTART:20221011T130000Z
DTEND:20221011T140000Z
END:VEVENT
END:VCALENDAR
