BEGIN:VCALENDAR
VERSION:2.0
PRODID:SchoolNow
CALSCALE:GREGORIAN
BEGIN:VEVENT
UID:a5fd26f8-315e-11ed-acc6-02c0d22b8e6d
DTSTAMP:20220910T231649Z
SUMMARY:Water Aerobics - Oct. 10th
URL;VALUE=URI:https://www.wildernesslakecdd.org/calendar/3373416/water-aero
 bics-oct-10th
DTSTART:20221010T130000Z
DTEND:20221010T140000Z
END:VEVENT
END:VCALENDAR
