BEGIN:VCALENDAR
VERSION:2.0
PRODID:SchoolNow
CALSCALE:GREGORIAN
BEGIN:VEVENT
UID:9672f33e-315e-11ed-8b4a-02c0d22b8e6d
DTSTAMP:20220910T231623Z
SUMMARY:Water Aerobics - Oct. 7th
URL;VALUE=URI:https://www.wildernesslakecdd.org/calendar/3373415/water-aero
 bics-oct-7th
DTSTART:20221007T130000Z
DTEND:20221007T140000Z
END:VEVENT
END:VCALENDAR
