BEGIN:VCALENDAR
VERSION:2.0
PRODID:SchoolNow
CALSCALE:GREGORIAN
BEGIN:VEVENT
UID:76b3cde8-315e-11ed-9486-02c0d22b8e6d
DTSTAMP:20220910T231530Z
SUMMARY:Water Aerobics - Oct. 4th
URL;VALUE=URI:https://www.wildernesslakecdd.org/calendar/3373413/water-aero
 bics-oct-4th
DTSTART:20221004T130000Z
DTEND:20221004T140000Z
END:VEVENT
END:VCALENDAR
