BEGIN:VCALENDAR
VERSION:2.0
PRODID:SchoolNow
CALSCALE:GREGORIAN
BEGIN:VEVENT
UID:6a818970-315e-11ed-bc9f-02c0d22b8e6d
DTSTAMP:20220910T231510Z
SUMMARY:Water Aerobics - Oct. 3rd
URL;VALUE=URI:https://www.wildernesslakecdd.org/calendar/3373412/water-aero
 bics-oct-3rd
DTSTART:20221003T130000Z
DTEND:20221003T140000Z
END:VEVENT
END:VCALENDAR
