BEGIN:VCALENDAR
VERSION:2.0
PRODID:SchoolNow
CALSCALE:GREGORIAN
BEGIN:VEVENT
UID:34bac9c8-315e-11ed-a877-02c0d22b8e6d
DTSTAMP:20220910T231339Z
SUMMARY:Water Aerobics - Sept. 28th
URL;VALUE=URI:https://www.wildernesslakecdd.org/calendar/3373410/water-aero
 bics-sept-28th
DTSTART:20220928T130000Z
DTEND:20220928T140000Z
END:VEVENT
END:VCALENDAR
