BEGIN:VCALENDAR
VERSION:2.0
PRODID:SchoolNow
CALSCALE:GREGORIAN
BEGIN:VEVENT
UID:1cd7658c-315e-11ed-b3fa-02c0d22b8e6d
DTSTAMP:20220910T231259Z
SUMMARY:Water Aerobics - Sept. 26th
URL;VALUE=URI:https://www.wildernesslakecdd.org/calendar/3373408/water-aero
 bics-sept-26th
DTSTART:20220926T130000Z
DTEND:20220926T140000Z
END:VEVENT
END:VCALENDAR
