BEGIN:VCALENDAR
VERSION:2.0
PRODID:SchoolNow
CALSCALE:GREGORIAN
BEGIN:VEVENT
UID:eee5e7fc-315d-11ed-ad0e-02c0d22b8e6d
DTSTAMP:20220910T231215Z
SUMMARY:Water Aerobics - Sept. 23rd
URL;VALUE=URI:https://www.wildernesslakecdd.org/calendar/3373407/water-aero
 bics-sept-23rd
DTSTART:20220923T130000Z
DTEND:20220923T140000Z
END:VEVENT
END:VCALENDAR
