BEGIN:VCALENDAR
VERSION:2.0
PRODID:SchoolNow
CALSCALE:GREGORIAN
BEGIN:VEVENT
UID:c0f4f4c8-315d-11ed-ae94-02c0d22b8e6d
DTSTAMP:20220910T231025Z
SUMMARY:Water Aerobics - Sept. 21st
URL;VALUE=URI:https://www.wildernesslakecdd.org/calendar/3373406/water-aero
 bics-sept-21st
DTSTART:20220921T130000Z
DTEND:20220921T140000Z
END:VEVENT
END:VCALENDAR
