BEGIN:VCALENDAR
VERSION:2.0
PRODID:SchoolNow
CALSCALE:GREGORIAN
BEGIN:VEVENT
UID:adf4f058-315d-11ed-a846-02c0d22b8e6d
DTSTAMP:20220910T230953Z
SUMMARY:Water Aerobics - Sept. 20th
URL;VALUE=URI:https://www.wildernesslakecdd.org/calendar/3373405/water-aero
 bics-sept-20th
DTSTART:20220920T130000Z
DTEND:20220920T140000Z
END:VEVENT
END:VCALENDAR
