BEGIN:VCALENDAR
VERSION:2.0
PRODID:SchoolNow
CALSCALE:GREGORIAN
BEGIN:VEVENT
UID:a131c080-315d-11ed-a9e3-02c0d22b8e6d
DTSTAMP:20220910T230932Z
SUMMARY:Water Aerobics - Sept. 19th
URL;VALUE=URI:https://www.wildernesslakecdd.org/calendar/3373404/water-aero
 bics-sept-19th
DTSTART:20220919T130000Z
DTEND:20220919T140000Z
END:VEVENT
END:VCALENDAR
