BEGIN:VCALENDAR
VERSION:2.0
PRODID:SchoolNow
CALSCALE:GREGORIAN
BEGIN:VEVENT
UID:88376cec-315d-11ed-a6fb-02c0d22b8e6d
DTSTAMP:20220910T230850Z
SUMMARY:Cup Cake Décor w/Linda
URL;VALUE=URI:https://www.wildernesslakecdd.org/calendar/3373403/cup-cake-d
 -cor-w-linda
DTSTART:20220917T140000Z
DTEND:20220917T150000Z
END:VEVENT
END:VCALENDAR
