BEGIN:VCALENDAR
VERSION:2.0
PRODID:SchoolNow
CALSCALE:GREGORIAN
BEGIN:VEVENT
UID:6166d9b8-315d-11ed-b19e-02c0d22b8e6d
DTSTAMP:20220910T230745Z
SUMMARY:Time for Wine w/Charles
URL;VALUE=URI:https://www.wildernesslakecdd.org/calendar/3373402/time-for-w
 ine-w-charles
DTSTART:20220916T220000Z
DTEND:20220917T004500Z
END:VEVENT
END:VCALENDAR
