BEGIN:VCALENDAR
VERSION:2.0
PRODID:SchoolNow
CALSCALE:GREGORIAN
BEGIN:VEVENT
UID:0c8e8c90-3155-11ed-ad21-0a4d983db7e1
DTSTAMP:20221212T211718Z
SUMMARY:Breakfast with Mr. & Mrs. Claus
URL;VALUE=URI:https://www.wildernesslakecdd.org/calendar/3373401/breakfast-
 with-mr-mrs-claus
DTSTART:20221217T150000Z
DTEND:20221217T170000Z
END:VEVENT
END:VCALENDAR
