BEGIN:VCALENDAR
VERSION:2.0
PRODID:SchoolNow
CALSCALE:GREGORIAN
BEGIN:VEVENT
UID:e3eda2bc-3154-11ed-9860-0a4d983db7e1
DTSTAMP:20221121T173423Z
SUMMARY:Kids Gaming Party 2 to 4 pm
URL;VALUE=URI:https://www.wildernesslakecdd.org/calendar/3373400/new-year-s
 -kids-crafting-event
DTSTART:20221229T190000Z
DTEND:20221229T210000Z
END:VEVENT
END:VCALENDAR
