BEGIN:VCALENDAR
VERSION:2.0
PRODID:SchoolNow
CALSCALE:GREGORIAN
BEGIN:VEVENT
UID:90e311d8-3154-11ed-ae11-0a4d983db7e1
DTSTAMP:20220910T220439Z
SUMMARY:Line Dancing w/Simone - Dec. 14th
URL;VALUE=URI:https://www.wildernesslakecdd.org/calendar/3373399/line-danci
 ng-w-simone-dec-14th
DTSTART:20221215T000000Z
DTEND:20221215T014500Z
END:VEVENT
END:VCALENDAR
