BEGIN:VCALENDAR
VERSION:2.0
PRODID:SchoolNow
CALSCALE:GREGORIAN
BEGIN:VEVENT
UID:7ab2e532-3154-11ed-bc93-0a4d983db7e1
DTSTAMP:20220910T220402Z
SUMMARY:Line Dancing w/Simone - Nov. 9th
URL;VALUE=URI:https://www.wildernesslakecdd.org/calendar/3373398/line-danci
 ng-w-simone-nov-9th
DTSTART:20221110T000000Z
DTEND:20221110T014500Z
END:VEVENT
END:VCALENDAR
