BEGIN:VCALENDAR
VERSION:2.0
PRODID:SchoolNow
CALSCALE:GREGORIAN
BEGIN:VEVENT
UID:46af90b4-3154-11ed-ae4e-0a4d983db7e1
DTSTAMP:20220910T220235Z
SUMMARY:Line Dancing w/Simone - Oct. 12th
URL;VALUE=URI:https://www.wildernesslakecdd.org/calendar/3373397/line-danci
 ng-w-simone-oct-12th
DTSTART:20221012T230000Z
DTEND:20221013T004500Z
END:VEVENT
END:VCALENDAR
