BEGIN:VCALENDAR
VERSION:2.0
PRODID:SchoolNow
CALSCALE:GREGORIAN
BEGIN:VEVENT
UID:234f6bbc-3154-11ed-9aee-0a4d983db7e1
DTSTAMP:20220910T220135Z
SUMMARY:Line Dancing w/Simone - Sept. 14th
URL;VALUE=URI:https://www.wildernesslakecdd.org/calendar/3373396/line-danci
 ng-w-simone-sept-14th
DTSTART:20220914T224500Z
DTEND:20220915T004500Z
END:VEVENT
END:VCALENDAR
