BEGIN:VCALENDAR
VERSION:2.0
PRODID:SchoolNow
CALSCALE:GREGORIAN
BEGIN:VEVENT
UID:f6c58edc-3153-11ed-b4ee-0a4d983db7e1
DTSTAMP:20221212T213357Z
SUMMARY:Food Truck -  Dec. 28th
LOCATION:Outside Lodge near Playground
URL;VALUE=URI:https://www.wildernesslakecdd.org/calendar/3373395/food-truck
 -dec-28th
DTSTART:20221228T220000Z
DTEND:20221229T003000Z
END:VEVENT
END:VCALENDAR
