BEGIN:VCALENDAR
VERSION:2.0
PRODID:SchoolNow
CALSCALE:GREGORIAN
BEGIN:VEVENT
UID:e0c1720e-3153-11ed-90a2-0a4d983db7e1
DTSTAMP:20220910T215944Z
SUMMARY:Food Truck -  Dec. 21st
LOCATION:Outside Lodge near Playground
URL;VALUE=URI:https://www.wildernesslakecdd.org/calendar/3373394/food-truck
 -dec-21st
DTSTART:20221221T220000Z
DTEND:20221222T010000Z
END:VEVENT
END:VCALENDAR
