BEGIN:VCALENDAR
VERSION:2.0
PRODID:SchoolNow
CALSCALE:GREGORIAN
BEGIN:VEVENT
UID:c857c97a-3153-11ed-8ed3-0a4d983db7e1
DTSTAMP:20221212T211544Z
SUMMARY:Food Truck -  Dec. 14th
LOCATION:Outside Lodge near Playground
URL;VALUE=URI:https://www.wildernesslakecdd.org/calendar/3373393/food-truck
 -dec-14th
DTSTART:20221214T220000Z
DTEND:20221215T003000Z
END:VEVENT
END:VCALENDAR
