BEGIN:VCALENDAR
VERSION:2.0
PRODID:SchoolNow
CALSCALE:GREGORIAN
BEGIN:VEVENT
UID:b9215c5a-3153-11ed-803c-0a4d983db7e1
DTSTAMP:20220910T215837Z
SUMMARY:Food Truck -  Dec. 7th
LOCATION:Outside Lodge near Playground
URL;VALUE=URI:https://www.wildernesslakecdd.org/calendar/3373392/food-truck
 -dec-7th
DTSTART:20221207T220000Z
DTEND:20221208T010000Z
END:VEVENT
END:VCALENDAR
