BEGIN:VCALENDAR
VERSION:2.0
PRODID:SchoolNow
CALSCALE:GREGORIAN
BEGIN:VEVENT
UID:a749989e-3153-11ed-88ec-0a4d983db7e1
DTSTAMP:20220910T215807Z
SUMMARY:Food Truck -  Nov. 30th
LOCATION:Outside Lodge near Playground
URL;VALUE=URI:https://www.wildernesslakecdd.org/calendar/3373391/food-truck
 -nov-30th
DTSTART:20221130T220000Z
DTEND:20221201T010000Z
END:VEVENT
END:VCALENDAR
