BEGIN:VCALENDAR
VERSION:2.0
PRODID:SchoolNow
CALSCALE:GREGORIAN
BEGIN:VEVENT
UID:7a8df1ce-3153-11ed-8557-0a4d983db7e1
DTSTAMP:20220910T215652Z
SUMMARY:Food Truck -  Nov. 16th
LOCATION:Outside Lodge near Playground
URL;VALUE=URI:https://www.wildernesslakecdd.org/calendar/3373390/food-truck
 -nov-16th
DTSTART:20221116T220000Z
DTEND:20221117T010000Z
END:VEVENT
END:VCALENDAR
