BEGIN:VCALENDAR
VERSION:2.0
PRODID:SchoolNow
CALSCALE:GREGORIAN
BEGIN:VEVENT
UID:69dd5428-3153-11ed-95aa-0a4d983db7e1
DTSTAMP:20220910T215624Z
SUMMARY:Food Truck -  Nov. 9th
LOCATION:Outside Lodge near Playground
URL;VALUE=URI:https://www.wildernesslakecdd.org/calendar/3373389/food-truck
 -nov-9th
DTSTART:20221109T220000Z
DTEND:20221110T010000Z
END:VEVENT
END:VCALENDAR
