BEGIN:VCALENDAR
VERSION:2.0
PRODID:SchoolNow
CALSCALE:GREGORIAN
BEGIN:VEVENT
UID:596486ac-3153-11ed-bdb9-0a4d983db7e1
DTSTAMP:20220910T215557Z
SUMMARY:Food Truck -  Nov. 2nd
LOCATION:Outside Lodge near Playground
URL;VALUE=URI:https://www.wildernesslakecdd.org/calendar/3373388/food-truck
 -nov-2nd
DTSTART:20221102T210000Z
DTEND:20221103T000000Z
END:VEVENT
END:VCALENDAR
