BEGIN:VCALENDAR
VERSION:2.0
PRODID:SchoolNow
CALSCALE:GREGORIAN
BEGIN:VEVENT
UID:4236b5ae-3153-11ed-9a86-0a4d983db7e1
DTSTAMP:20220910T215518Z
SUMMARY:Food Truck -  Oct. 26th
LOCATION:Outside Lodge near Playground
URL;VALUE=URI:https://www.wildernesslakecdd.org/calendar/3373387/food-truck
 -oct-26th
DTSTART:20221026T210000Z
DTEND:20221027T000000Z
END:VEVENT
END:VCALENDAR
