BEGIN:VCALENDAR
VERSION:2.0
PRODID:SchoolNow
CALSCALE:GREGORIAN
BEGIN:VEVENT
UID:32e88faa-3153-11ed-849e-0a4d983db7e1
DTSTAMP:20220910T215452Z
SUMMARY:Food Truck -  Oct. 19th
LOCATION:Outside Lodge near Playground
URL;VALUE=URI:https://www.wildernesslakecdd.org/calendar/3373386/food-truck
 -oct-19th
DTSTART:20221019T210000Z
DTEND:20221020T000000Z
END:VEVENT
END:VCALENDAR
