BEGIN:VCALENDAR
VERSION:2.0
PRODID:SchoolNow
CALSCALE:GREGORIAN
BEGIN:VEVENT
UID:1ff3b9c4-3153-11ed-a260-0a4d983db7e1
DTSTAMP:20220910T215420Z
SUMMARY:Food Truck -  Oct. 12th
LOCATION:Outside Lodge near Playground
URL;VALUE=URI:https://www.wildernesslakecdd.org/calendar/3373385/food-truck
 -oct-12th
DTSTART:20221012T210000Z
DTEND:20221013T000000Z
END:VEVENT
END:VCALENDAR
