BEGIN:VCALENDAR
VERSION:2.0
PRODID:SchoolNow
CALSCALE:GREGORIAN
BEGIN:VEVENT
UID:110e299e-3153-11ed-9ea4-0a4d983db7e1
DTSTAMP:20220910T215355Z
SUMMARY:Food Truck -  Oct. 5th
LOCATION:Outside Lodge near Playground
URL;VALUE=URI:https://www.wildernesslakecdd.org/calendar/3373384/food-truck
 -oct-5th
DTSTART:20221005T210000Z
DTEND:20221006T000000Z
END:VEVENT
END:VCALENDAR
