BEGIN:VCALENDAR
VERSION:2.0
PRODID:SchoolNow
CALSCALE:GREGORIAN
BEGIN:VEVENT
UID:fbab7598-3152-11ed-b475-0a4d983db7e1
DTSTAMP:20220910T215319Z
SUMMARY:Food Truck -  Sept. 28th
LOCATION:Outside Lodge near Playground
URL;VALUE=URI:https://www.wildernesslakecdd.org/calendar/3373383/food-truck
 -sept-28th
DTSTART:20220928T210000Z
DTEND:20220929T000000Z
END:VEVENT
END:VCALENDAR
