BEGIN:VCALENDAR
VERSION:2.0
PRODID:SchoolNow
CALSCALE:GREGORIAN
BEGIN:VEVENT
UID:ebd71cda-3152-11ed-8292-0a4d983db7e1
DTSTAMP:20220910T215253Z
SUMMARY:Food Truck -  Sept. 21st
LOCATION:Outside Lodge near Playground
URL;VALUE=URI:https://www.wildernesslakecdd.org/calendar/3373382/food-truck
 -sept-21st
DTSTART:20220921T210000Z
DTEND:20220922T000000Z
END:VEVENT
END:VCALENDAR
