BEGIN:VCALENDAR
VERSION:2.0
PRODID:SchoolNow
CALSCALE:GREGORIAN
BEGIN:VEVENT
UID:d58a5d16-3152-11ed-8b0e-0a4d983db7e1
DTSTAMP:20220910T215222Z
SUMMARY:Food Truck -  Sept. 14th
LOCATION:Outside Lodge near Playground
URL;VALUE=URI:https://www.wildernesslakecdd.org/calendar/3373381/food-truck
 -sept-14th
DTSTART:20220914T210000Z
DTEND:20220915T000000Z
END:VEVENT
END:VCALENDAR
