BEGIN:VCALENDAR
VERSION:2.0
PRODID:SchoolNow
CALSCALE:GREGORIAN
BEGIN:VEVENT
UID:ac65d85c-3152-11ed-9656-0a4d983db7e1
DTSTAMP:20220910T215106Z
SUMMARY:Women's Bible Study - Dec. 28th
LOCATION:Theatre
URL;VALUE=URI:https://www.wildernesslakecdd.org/calendar/3373380/womens-bib
 le-study-dec-28th
DTSTART:20221228T150000Z
DTEND:20221228T170000Z
END:VEVENT
END:VCALENDAR
