BEGIN:VCALENDAR
VERSION:2.0
PRODID:SchoolNow
CALSCALE:GREGORIAN
BEGIN:VEVENT
UID:98e56d2e-3152-11ed-bc5a-0a4d983db7e1
DTSTAMP:20220910T215034Z
SUMMARY:Women's Bible Study - Dec. 21st
LOCATION:Theatre
URL;VALUE=URI:https://www.wildernesslakecdd.org/calendar/3373379/womens-bib
 le-study-dec-21st
DTSTART:20221221T150000Z
DTEND:20221221T170000Z
END:VEVENT
END:VCALENDAR
