BEGIN:VCALENDAR
VERSION:2.0
PRODID:SchoolNow
CALSCALE:GREGORIAN
BEGIN:VEVENT
UID:82f46984-3152-11ed-886d-0a4d983db7e1
DTSTAMP:20220910T214957Z
SUMMARY:Women's Bible Study - Dec. 14th
LOCATION:Theatre
URL;VALUE=URI:https://www.wildernesslakecdd.org/calendar/3373378/womens-bib
 le-study-dec-14th
DTSTART:20221214T150000Z
DTEND:20221214T170000Z
END:VEVENT
END:VCALENDAR
