BEGIN:VCALENDAR
VERSION:2.0
PRODID:SchoolNow
CALSCALE:GREGORIAN
BEGIN:VEVENT
UID:722c1a8e-3152-11ed-99b7-0a4d983db7e1
DTSTAMP:20220910T214929Z
SUMMARY:Women's Bible Study - Dec. 7th
LOCATION:Theatre
URL;VALUE=URI:https://www.wildernesslakecdd.org/calendar/3373377/womens-bib
 le-study-dec-7th
DTSTART:20221207T150000Z
DTEND:20221207T170000Z
END:VEVENT
END:VCALENDAR
