BEGIN:VCALENDAR
VERSION:2.0
PRODID:SchoolNow
CALSCALE:GREGORIAN
BEGIN:VEVENT
UID:5323d1ae-3152-11ed-99c7-0a4d983db7e1
DTSTAMP:20220910T214837Z
SUMMARY:Women's Bible Study - Nov. 30th
LOCATION:Theatre
URL;VALUE=URI:https://www.wildernesslakecdd.org/calendar/3373376/womens-bib
 le-study-nov-30th
DTSTART:20221130T150000Z
DTEND:20221130T170000Z
END:VEVENT
END:VCALENDAR
