BEGIN:VCALENDAR
VERSION:2.0
PRODID:SchoolNow
CALSCALE:GREGORIAN
BEGIN:VEVENT
UID:40109426-3152-11ed-908e-0a4d983db7e1
DTSTAMP:20220910T214805Z
SUMMARY:Women's Bible Study - Nov. 23rd
LOCATION:Theatre
URL;VALUE=URI:https://www.wildernesslakecdd.org/calendar/3373375/womens-bib
 le-study-nov-23rd
DTSTART:20221123T150000Z
DTEND:20221123T170000Z
END:VEVENT
END:VCALENDAR
