BEGIN:VCALENDAR
VERSION:2.0
PRODID:SchoolNow
CALSCALE:GREGORIAN
BEGIN:VEVENT
UID:28091a38-3152-11ed-8a01-0a4d983db7e1
DTSTAMP:20220910T214724Z
SUMMARY:Women's Bible Study - Nov. 16th
LOCATION:Theatre
URL;VALUE=URI:https://www.wildernesslakecdd.org/calendar/3373374/womens-bib
 le-study-nov-16th
DTSTART:20221116T150000Z
DTEND:20221116T170000Z
END:VEVENT
END:VCALENDAR
