BEGIN:VCALENDAR
VERSION:2.0
PRODID:SchoolNow
CALSCALE:GREGORIAN
BEGIN:VEVENT
UID:0dde04f2-3152-11ed-ab87-0a4d983db7e1
DTSTAMP:20220910T214640Z
SUMMARY:Women's Bible Study - Nov. 9th
LOCATION:Theatre
URL;VALUE=URI:https://www.wildernesslakecdd.org/calendar/3373373/womens-bib
 le-study-nov-9th
DTSTART:20221109T150000Z
DTEND:20221109T170000Z
END:VEVENT
END:VCALENDAR
