BEGIN:VCALENDAR
VERSION:2.0
PRODID:SchoolNow
CALSCALE:GREGORIAN
BEGIN:VEVENT
UID:f884a1ec-3151-11ed-a718-0a4d983db7e1
DTSTAMP:20220910T214604Z
SUMMARY:Women's Bible Study - Nov. 2nd
LOCATION:Theatre
URL;VALUE=URI:https://www.wildernesslakecdd.org/calendar/3373372/womens-bib
 le-study-nov-2nd
DTSTART:20221102T140000Z
DTEND:20221102T160000Z
END:VEVENT
END:VCALENDAR
