BEGIN:VCALENDAR
VERSION:2.0
PRODID:SchoolNow
CALSCALE:GREGORIAN
BEGIN:VEVENT
UID:e1d49772-3151-11ed-b35c-0a4d983db7e1
DTSTAMP:20220910T214526Z
SUMMARY:Women's Bible Study - Oct. 26th
LOCATION:Theatre
URL;VALUE=URI:https://www.wildernesslakecdd.org/calendar/3373371/womens-bib
 le-study-oct-26th
DTSTART:20221026T140000Z
DTEND:20221026T160000Z
END:VEVENT
END:VCALENDAR
