BEGIN:VCALENDAR
VERSION:2.0
PRODID:SchoolNow
CALSCALE:GREGORIAN
BEGIN:VEVENT
UID:cb197340-3151-11ed-9d6f-0a4d983db7e1
DTSTAMP:20220910T214448Z
SUMMARY:Pickleball - Oct. 25th
LOCATION:Tennis Courts
URL;VALUE=URI:https://www.wildernesslakecdd.org/calendar/3373370/pickleball
 -oct-25th
DTSTART:20221025T223000Z
DTEND:20221025T233000Z
END:VEVENT
END:VCALENDAR
